BEGIN:VCALENDAR
VERSION:2.0
PRODID:-//Kulturinitiative Coerde e.V. - ECPv6.15.20//NONSGML v1.0//EN
CALSCALE:GREGORIAN
METHOD:PUBLISH
X-ORIGINAL-URL:https://kulturinitiative-coerde.de
X-WR-CALDESC:Veranstaltungen für Kulturinitiative Coerde e.V.
REFRESH-INTERVAL;VALUE=DURATION:PT1H
X-Robots-Tag:noindex
X-PUBLISHED-TTL:PT1H
BEGIN:VTIMEZONE
TZID:Europe/Berlin
BEGIN:DAYLIGHT
TZOFFSETFROM:+0100
TZOFFSETTO:+0200
TZNAME:CEST
DTSTART:20240331T010000
END:DAYLIGHT
BEGIN:STANDARD
TZOFFSETFROM:+0200
TZOFFSETTO:+0100
TZNAME:CET
DTSTART:20241027T010000
END:STANDARD
BEGIN:DAYLIGHT
TZOFFSETFROM:+0100
TZOFFSETTO:+0200
TZNAME:CEST
DTSTART:20250330T010000
END:DAYLIGHT
BEGIN:STANDARD
TZOFFSETFROM:+0200
TZOFFSETTO:+0100
TZNAME:CET
DTSTART:20251026T010000
END:STANDARD
BEGIN:DAYLIGHT
TZOFFSETFROM:+0100
TZOFFSETTO:+0200
TZNAME:CEST
DTSTART:20260329T010000
END:DAYLIGHT
BEGIN:STANDARD
TZOFFSETFROM:+0200
TZOFFSETTO:+0100
TZNAME:CET
DTSTART:20261025T010000
END:STANDARD
END:VTIMEZONE
BEGIN:VEVENT
DTSTART;TZID=Europe/Berlin:20250311T183000
DTEND;TZID=Europe/Berlin:20250311T203000
DTSTAMP:20260420T231349
CREATED:20250218T222520Z
LAST-MODIFIED:20250220T214233Z
UID:811-1741717800-1741725000@kulturinitiative-coerde.de
SUMMARY:Mitgliederversammlung 2025 | Kulturinitiative Coerde e. V.
DESCRIPTION:
URL:https://kulturinitiative-coerde.de/termin/mitgliederversammlung-kulturinitiative-coerde-2025/
LOCATION:Franziskus-Haus Coerde\, Schneidemühler Straße 23c\, Münster\, 48157
CATEGORIES:Vereinstermin intern
ORGANIZER;CN="Kulturinitiative Coerde e. V.":MAILTO:info@kultur-coerde.de
END:VEVENT
BEGIN:VEVENT
DTSTART;TZID=Europe/Berlin:20250320T160000
DTEND;TZID=Europe/Berlin:20250320T183000
DTSTAMP:20260420T231349
CREATED:20250403T113518Z
LAST-MODIFIED:20250403T115938Z
UID:1307-1742486400-1742495400@kulturinitiative-coerde.de
SUMMARY:Offene Kreide- und Spielaktion 01 | Hamannplatz
DESCRIPTION:Offenes Angebot für Groß und Klein auf dem Hamannplatz
URL:https://kulturinitiative-coerde.de/termin/offene-kreide-und-spielaktion-hamannplatz/
LOCATION:Hamannplatz Münster-Coerde\, Hamannplatz\, Münster\, Nordrhein-Westfalen\, 48157\, Germany
CATEGORIES:Besondere Aktionen
ORGANIZER;CN="B%C3%BCndnis%3A Coerde ist bunt":MAILTO:info@coerde-ist-bunt.de
END:VEVENT
BEGIN:VEVENT
DTSTART;TZID=Europe/Berlin:20250327T160000
DTEND;TZID=Europe/Berlin:20250327T180000
DTSTAMP:20260420T231349
CREATED:20250403T122554Z
LAST-MODIFIED:20250407T075150Z
UID:1317-1743091200-1743098400@kulturinitiative-coerde.de
SUMMARY:Offene Kreide- und Spielaktion 02 | Hamannplatz
DESCRIPTION:Offenes Angebot für Groß und Klein auf dem Hamannplatz
URL:https://kulturinitiative-coerde.de/termin/offene-kreide-und-spielaktion-02-hamannplatz/
LOCATION:Hamannplatz Münster-Coerde\, Hamannplatz\, Münster\, Nordrhein-Westfalen\, 48157\, Germany
ORGANIZER;CN="B%C3%BCndnis%3A Coerde ist bunt":MAILTO:info@coerde-ist-bunt.de
END:VEVENT
BEGIN:VEVENT
DTSTART;TZID=Europe/Berlin:20250328T193000
DTEND;TZID=Europe/Berlin:20250328T210000
DTSTAMP:20260420T231349
CREATED:20250218T224401Z
LAST-MODIFIED:20250220T212442Z
UID:818-1743190200-1743195600@kulturinitiative-coerde.de
SUMMARY:Vorlese-Café auf Serbisch und Deutsch
DESCRIPTION:Tickets (kostenlos – hier buchbar)
URL:https://kulturinitiative-coerde.de/termin/vorlese-cafe/
LOCATION:Begegnungszentrum Meerwiese\, An der Meerwiese 25\, Münster\, NRW\, 48157
CATEGORIES:Kulturveranstaltung
ORGANIZER;CN="Kulturinitiative Coerde e. V.":MAILTO:info@kultur-coerde.de
END:VEVENT
END:VCALENDAR